{"text_format":"1","workbook":"xlsx","n_sheets":12,"sheets":["Squad 1","Squad 2","Squad 3","Squad 4","Kvalifikacije TOTAL","step1","step2","RoundRobin","step3","Zene kvalifikacije","Zene RoundRobin","Zene step3"],"not_rendered":{"charts":0,"images":0,"macros":1,"external_links":1,"defined_names":13,"comments":0,"pivot_tables":0},"unopened":[],"bounds":{"document_bytes":16777216,"sheet_cells":100000,"rows_first":2000,"rows_last":500,"rows_between":2000,"halvings":0,"cell_chars":16384,"cell_head_chars":4096},"cells_cut":0,"cells_raw":0,"read":"whole","date_system":"1900"}

{"sheet":"Squad 1","index":0,"n_rows":27,"n_cols":10,"rows_kept":27,"cut":false,"hidden":false,"merged":[[0,0,0,9]]}
["Squad 1 - Bowling Centar Kolosej - Ušće  23.02.2011  17:00"]
[]
["Pozicija","Ime igraca","I igra","II igra","III igra","IV igra","V igra","VI igra","Total","Prosek"]
[1,"Miladin Dabetić",180,235,202,199,188,203,{"$f":"SUM(C4:H4)","v":1207},{"$f":"AVERAGE(C4:H4)","v":201.16666666666666}]
[2,"Vladimir Štrbac",195,203,170,182,200,219,{"$f":"SUM(C5:H5)","v":1169},{"$f":"AVERAGE(C5:H5)","v":194.83333333333334}]
[3,"Stevo Kovačević",171,222,210,193,182,187,{"$f":"SUM(C6:H6)","v":1165},{"$f":"AVERAGE(C6:H6)","v":194.16666666666666}]
[4,"Boško Nikolić",177,223,193,206,197,138,{"$f":"SUM(C7:H7)","v":1134},{"$f":"AVERAGE(C7:H7)","v":189}]
[5,"Boban Stojić",167,179,196,202,153,199,{"$f":"SUM(C8:H8)","v":1096},{"$f":"AVERAGE(C8:H8)","v":182.66666666666666}]
[6,"Mladen Aćimović",144,171,217,135,203,221,{"$f":"SUM(C9:H9)","v":1091},{"$f":"AVERAGE(C9:H9)","v":181.83333333333334}]
[7,"Predrag Lukovac",226,135,151,212,201,161,{"$f":"SUM(C10:H10)","v":1086},{"$f":"AVERAGE(C10:H10)","v":181}]
[8,"Bojan Kovačić",146,153,201,155,183,206,{"$f":"SUM(C11:H11)","v":1044},{"$f":"AVERAGE(C11:H11)","v":174}]
[9,"Jovo Milovanović",145,189,165,200,151,172,{"$f":"SUM(C12:H12)","v":1022},{"$f":"AVERAGE(C12:H12)","v":170.33333333333334}]
[10,"Milan Zlatar",172,155,187,174,138,117,{"$f":"SUM(C13:H13)","v":943},{"$f":"AVERAGE(C13:H13)","v":157.16666666666666}]
[11,"Milorad Radmanović",160,134,154,144,185,158,{"$f":"SUM(C14:H14)","v":935},{"$f":"AVERAGE(C14:H14)","v":155.83333333333334}]
[12,"Nataša Drajer",139,124,121,181,171,181,{"$f":"SUM(C15:H15)","v":917},{"$f":"AVERAGE(C15:H15)","v":152.83333333333334}]
[13,"Zoran Milak",121,168,180,137,128,170,{"$f":"SUM(C16:H16)","v":904},{"$f":"AVERAGE(C16:H16)","v":150.66666666666666}]
[14,"Dragan Ilić",101,122,122,137,150,152,{"$f":"SUM(C17:H17)","v":784},{"$f":"AVERAGE(C17:H17)","v":130.66666666666666}]
[15,"Aleksandar Nikolić",165,166,186,152,0,0,{"$f":"SUM(C18:H18)","v":669},{"$f":"AVERAGE(C18:H18)","v":111.5}]
[16,"Simon Simonović",166,182,155,128,0,0,{"$f":"SUM(C19:H19)","v":631},{"$f":"AVERAGE(C19:H19)","v":105.16666666666667}]
[17,null,null,null,null,null,null,null,{"$f":"SUM(C20:H20)","v":0},{"$f":"AVERAGE(C20:H20)","v":{"$error":"#DIV/0!"}}]
[18,null,null,null,null,null,null,null,0,{"$error":"#DIV/0!"}]
[19,null,null,null,null,null,null,null,0,{"$error":"#DIV/0!"}]
[20,null,null,null,null,null,null,null,0,{"$error":"#DIV/0!"}]
[21,null,null,null,null,null,null,null,0,{"$error":"#DIV/0!"}]
[22,null,null,null,null,null,null,null,0,{"$error":"#DIV/0!"}]
[23,null,null,null,null,null,null,null,{"$f":"SUM(C26:H26)","v":0},{"$error":"#DIV/0!"}]
[24,null,null,null,null,null,null,null,0,{"$error":"#DIV/0!"}]

{"sheet":"Squad 2","index":1,"n_rows":27,"n_cols":10,"rows_kept":27,"cut":false,"hidden":false,"merged":[[0,0,0,9]]}
["Squad 2 - Bowling Centar Kolosej - Ušće  23.02.2011  20:00"]
[]
["Pozicija","Ime igraca","I igra","II igra","III igra","IV igra","V igra","VI igra","Total","Prosek"]
[1,"Predrag Drajer",184,208,202,194,202,153,{"$f":"SUM(C4:H4)","v":1143},{"$f":"AVERAGE(C4:H4)","v":190.5}]
[2,"Dragana Petrović",204,212,140,158,202,148,{"$f":"SUM(C5:H5)","v":1064},{"$f":"AVERAGE(C5:H5)","v":177.33333333333334}]
[3,"Saša Macanović",175,146,155,181,137,199,{"$f":"SUM(C6:H6)","v":993},{"$f":"AVERAGE(C6:H6)","v":165.5}]
[4,"Dejan Milovanović",158,158,182,162,143,182,{"$f":"SUM(C7:H7)","v":985},{"$f":"AVERAGE(C7:H7)","v":164.16666666666666}]
[5,"Goran Živanović",138,149,192,158,144,169,{"$f":"SUM(C8:H8)","v":950},{"$f":"AVERAGE(C8:H8)","v":158.33333333333334}]
[6,"Aleksandar Stanaćev",160,172,143,184,128,148,{"$f":"SUM(C9:H9)","v":935},{"$f":"AVERAGE(C9:H9)","v":155.83333333333334}]
[7,"Željko Gluvajić",148,157,180,116,140,192,{"$f":"SUM(C10:H10)","v":933},{"$f":"AVERAGE(C10:H10)","v":155.5}]
[8,"Aleksandar Ešpek",148,118,183,201,150,118,{"$f":"SUM(C11:H11)","v":918},{"$f":"AVERAGE(C11:H11)","v":153}]
[9,"Branislav Skender",156,128,134,140,0,0,{"$f":"SUM(C12:H12)","v":558},{"$f":"AVERAGE(C12:H12)","v":93}]
[10,null,null,null,null,null,null,null,{"$f":"SUM(C13:H13)","v":0},{"$f":"AVERAGE(C13:H13)","v":{"$error":"#DIV/0!"}}]
[11,null,null,null,null,null,null,null,0,{"$error":"#DIV/0!"}]
[12,null,null,null,null,null,null,null,0,{"$error":"#DIV/0!"}]
[13,null,null,null,null,null,null,null,0,{"$error":"#DIV/0!"}]
[14,null,null,null,null,null,null,null,0,{"$error":"#DIV/0!"}]
[15,null,null,null,null,null,null,null,0,{"$error":"#DIV/0!"}]
[16,null,null,null,null,null,null,null,0,{"$error":"#DIV/0!"}]
[17,null,null,null,null,null,null,null,0,{"$error":"#DIV/0!"}]
[18,null,null,null,null,null,null,null,0,{"$error":"#DIV/0!"}]
[19,null,null,null,null,null,null,null,0,{"$error":"#DIV/0!"}]
[20,null,null,null,null,null,null,null,0,{"$error":"#DIV/0!"}]
[21,null,null,null,null,null,null,null,0,{"$error":"#DIV/0!"}]
[22,null,null,null,null,null,null,null,0,{"$error":"#DIV/0!"}]
[23,null,null,null,null,null,null,null,0,{"$error":"#DIV/0!"}]
[24,null,null,null,null,null,null,null,0,{"$error":"#DIV/0!"}]

{"sheet":"Squad 3","index":2,"n_rows":27,"n_cols":10,"rows_kept":27,"cut":false,"hidden":false,"merged":[[0,0,0,9]]}
["Squad 3 - Bowling Centar Kolosej - Ušće  24.02.2011  17:00"]
[]
["Pozicija","Ime igraca","I igra","II igra","III igra","IV igra","V igra","VI igra","Total","Prosek"]
[1,"Nenad Stojiljković",165,229,174,134,213,187,{"$f":"SUM(C4:H4)","v":1102},{"$f":"AVERAGE(C4:H4)","v":183.66666666666666}]
[2,"Vladimir Vesić",152,197,165,179,148,201,{"$f":"SUM(C5:H5)","v":1042},{"$f":"AVERAGE(C5:H5)","v":173.66666666666666}]
[3,"Milan Davidović",137,142,147,235,158,199,{"$f":"SUM(C6:H6)","v":1018},{"$f":"AVERAGE(C6:H6)","v":169.66666666666666}]
[4,"Danica Vijatović",151,212,163,157,159,163,{"$f":"SUM(C7:H7)","v":1005},{"$f":"AVERAGE(C7:H7)","v":167.5}]
[5,"Zita Širmer",185,134,174,149,199,152,{"$f":"SUM(C8:H8)","v":993},{"$f":"AVERAGE(C8:H8)","v":165.5}]
[6,"Srba Mirić",167,193,145,132,197,157,{"$f":"SUM(C9:H9)","v":991},{"$f":"AVERAGE(C9:H9)","v":165.16666666666666}]
[7,"Milutin Drajer",192,144,173,127,168,182,{"$f":"SUM(C10:H10)","v":986},{"$f":"AVERAGE(C10:H10)","v":164.33333333333334}]
[8,"Biljana Mirić",130,187,189,120,151,166,{"$f":"SUM(C11:H11)","v":943},{"$f":"AVERAGE(C11:H11)","v":157.16666666666666}]
[9,"Oliver Širmer",189,143,143,129,146,135,{"$f":"SUM(C12:H12)","v":885},{"$f":"AVERAGE(C12:H12)","v":147.5}]
[10,null,null,null,null,null,null,null,{"$f":"SUM(C13:H13)","v":0},{"$f":"AVERAGE(C13:H13)","v":{"$error":"#DIV/0!"}}]
[11,null,null,null,null,null,null,null,0,{"$error":"#DIV/0!"}]
[12,null,null,null,null,null,null,null,0,{"$error":"#DIV/0!"}]
[13,null,null,null,null,null,null,null,0,{"$error":"#DIV/0!"}]
[14,null,null,null,null,null,null,null,0,{"$error":"#DIV/0!"}]
[15,null,null,null,null,null,null,null,0,{"$error":"#DIV/0!"}]
[16,null,null,null,null,null,null,null,0,{"$error":"#DIV/0!"}]
[17,null,null,null,null,null,null,null,0,{"$error":"#DIV/0!"}]
[18,null,null,null,null,null,null,null,0,{"$error":"#DIV/0!"}]
[19,null,null,null,null,null,null,null,0,{"$error":"#DIV/0!"}]
[20,null,null,null,null,null,null,null,0,{"$error":"#DIV/0!"}]
[21,null,null,null,null,null,null,null,0,{"$error":"#DIV/0!"}]
[22,null,null,null,null,null,null,null,0,{"$error":"#DIV/0!"}]
[23,null,null,null,null,null,null,null,0,{"$error":"#DIV/0!"}]
[24,null,null,null,null,null,null,null,0,{"$error":"#DIV/0!"}]

{"sheet":"Squad 4","index":3,"n_rows":27,"n_cols":10,"rows_kept":27,"cut":false,"hidden":false,"merged":[[0,0,0,9]]}
["Squad 4 - Bowling Centar Kolosej - Ušće  24.02.2011  20:00"]
[]
["Pozicija","Ime igraca","I igra","II igra","III igra","IV igra","V igra","VI igra","Total","Prosek"]
[1,"Bertalan Puškaš",160,223,215,227,220,188,{"$f":"SUM(C4:H4)","v":1233},{"$f":"AVERAGE(C4:H4)","v":205.5}]
[2,"Milan Dragić",170,209,173,211,215,222,{"$f":"SUM(C5:H5)","v":1200},{"$f":"AVERAGE(C5:H5)","v":200}]
[3,"Slavoljub Miljkovic",184,238,209,182,178,162,{"$f":"SUM(C6:H6)","v":1153},{"$f":"AVERAGE(C6:H6)","v":192.16666666666666}]
[4,"Saša Pavlovski",144,209,142,221,258,170,{"$f":"SUM(C7:H7)","v":1144},{"$f":"AVERAGE(C7:H7)","v":190.66666666666666}]
[5,"Djordje Djermanović",190,186,195,172,177,183,{"$f":"SUM(C8:H8)","v":1103},{"$f":"AVERAGE(C8:H8)","v":183.83333333333334}]
[6,"Borivoj Djuran",202,150,183,183,181,196,{"$f":"SUM(C9:H9)","v":1095},{"$f":"AVERAGE(C9:H9)","v":182.5}]
[7,"Vanja Majski",129,153,235,221,182,171,{"$f":"SUM(C10:H10)","v":1091},{"$f":"AVERAGE(C10:H10)","v":181.83333333333334}]
[8,"Goran Balać",158,175,134,182,238,180,{"$f":"SUM(C11:H11)","v":1067},{"$f":"AVERAGE(C11:H11)","v":177.83333333333334}]
[9,"Nemanja Sarić",179,141,204,162,186,168,{"$f":"SUM(C12:H12)","v":1040},{"$f":"AVERAGE(C12:H12)","v":173.33333333333334}]
[10,"Aleksandar Obradović",201,161,147,186,169,141,{"$f":"SUM(C13:H13)","v":1005},{"$f":"AVERAGE(C13:H13)","v":167.5}]
[11,"Živko Cvejin",152,162,140,160,168,191,{"$f":"SUM(C14:H14)","v":973},{"$f":"AVERAGE(C14:H14)","v":162.16666666666666}]
[12,"Darko Nesić",172,157,194,155,154,141,{"$f":"SUM(C15:H15)","v":973},{"$f":"AVERAGE(C15:H15)","v":162.16666666666666}]
[13,"Dragan Jontić",181,159,148,141,138,0,{"$f":"SUM(C16:H16)","v":767},{"$f":"AVERAGE(C16:H16)","v":127.83333333333333}]
[14,null,null,null,null,null,null,null,{"$f":"SUM(C17:H17)","v":0},{"$f":"AVERAGE(C17:H17)","v":{"$error":"#DIV/0!"}}]
[15,null,null,null,null,null,null,null,0,{"$error":"#DIV/0!"}]
[16,null,null,null,null,null,null,null,0,{"$error":"#DIV/0!"}]
[17,null,null,null,null,null,null,null,0,{"$error":"#DIV/0!"}]
[18,null,null,null,null,null,null,null,0,{"$error":"#DIV/0!"}]
[19,null,null,null,null,null,null,null,0,{"$error":"#DIV/0!"}]
[20,null,null,null,null,null,null,null,0,{"$error":"#DIV/0!"}]
[21,null,null,null,null,null,null,null,0,{"$error":"#DIV/0!"}]
[22,null,null,null,null,null,null,null,0,{"$error":"#DIV/0!"}]
[23,null,null,null,null,null,null,null,0,{"$error":"#DIV/0!"}]
[24,null,null,null,null,null,null,null,0,{"$error":"#DIV/0!"}]

{"sheet":"Kvalifikacije TOTAL","index":4,"n_rows":46,"n_cols":11,"rows_kept":46,"cut":false,"hidden":false,"merged":[[0,0,0,10],[1,0,1,10]]}
["Kvalifikacije - Pojedinačno prvenstvo Srbije (M)"]
["Bowling Centar Kolosej - Ušće  23-24.02.2011"]
[]
["Pozicija","Ime igraca","I igra","II igra","III igra","IV igra","V igra","VI igra","Total","Prosek","Cut"]
[1,"Bertalan Puškaš",160,223,215,227,220,188,{"$f":"SUM(C5:H5)","v":1233},{"$f":"AVERAGE(C5:H5)","v":205.5},{"$f":"IF(I5=0,0,I5-$I$20)","v":147}]
[2,"Miladin Dabetić",180,235,202,199,188,203,1207,201.16666666666666,121]
[3,"Milan Dragić",170,209,173,211,215,222,1200,200,114]
[4,"Vladimir Štrbac",195,203,170,182,200,219,1169,194.83333333333334,83]
[5,"Stevo Kovačević",171,222,210,193,182,187,1165,194.16666666666666,79]
[6,"Slavoljub Miljkovic",184,238,209,182,178,162,1153,192.16666666666666,67]
[7,"Saša Pavlovski",144,209,142,221,258,170,1144,190.66666666666666,58]
[8,"Predrag Drajer",184,208,202,194,202,153,1143,190.5,57]
[9,"Boško Nikolić",177,223,193,206,197,138,1134,189,48]
[10,"Djordje Djermanović",190,186,195,172,177,183,1103,183.83333333333334,17]
[11,"Nenad Stojiljković",165,229,174,134,213,187,1102,183.66666666666666,16]
[12,"Boban Stojić",167,179,196,202,153,199,1096,182.66666666666666,10]
[13,"Borivoj Djuran",202,150,183,183,181,196,1095,182.5,9]
[14,"Mladen Aćimović",144,171,217,135,203,221,1091,181.83333333333334,5]
[15,"Vanja Majski",129,153,235,221,182,171,1091,181.83333333333334,5]
[16,"Predrag Lukovac",226,135,151,212,201,161,1086,181,0]
[17,"Goran Balać",158,175,134,182,238,180,1067,177.83333333333334,{"$f":"IF(I21=0,0,I21-$I$20)","v":-19}]
[18,"Bojan Kovačić",146,153,201,155,183,206,1044,174,-42]
[19,"Vladimir Vesić",152,197,165,179,148,201,1042,173.66666666666666,-44]
[20,"Nemanja Sarić",179,141,204,162,186,168,1040,173.33333333333334,-46]
[21,"Jovo Milovanović",145,189,165,200,151,172,1022,170.33333333333334,-64]
[22,"Milan Davidović",137,142,147,235,158,199,1018,169.66666666666666,-68]
[23,"Aleksandar Obradović",201,161,147,186,169,141,1005,167.5,-81]
[24,"Saša Macanović",175,146,155,181,137,199,993,165.5,-93]
[25,"Srba Mirić",167,193,145,132,197,157,991,165.16666666666666,-95]
[26,"Milutin Drajer",192,144,173,127,168,182,986,164.33333333333334,-100]
[27,"Dejan Milovanović",158,158,182,162,143,182,985,164.16666666666666,-101]
[28,"Živko Cvejin",152,162,140,160,168,191,973,162.16666666666666,-113]
[29,"Darko Nesić",172,157,194,155,154,141,973,162.16666666666666,-113]
[30,"Goran Živanović",138,149,192,158,144,169,950,158.33333333333334,-136]
[31,"Milan Zlatar",172,155,187,174,138,117,943,157.16666666666666,-143]
[32,"Milorad Radmanović",160,134,154,144,185,158,935,155.83333333333334,-151]
[33,"Aleksandar Stanaćev",160,172,143,184,128,148,935,155.83333333333334,-151]
[34,"Željko Gluvajić",148,157,180,116,140,192,933,155.5,-153]
[35,"Aleksandar Ešpek",148,118,183,201,150,118,918,153,-168]
[36,"Zoran Milak",121,168,180,137,128,170,904,150.66666666666666,-182]
[37,"Oliver Širmer",189,143,143,129,146,135,885,147.5,-201]
[38,"Dragan Ilić",101,122,122,137,150,152,784,130.66666666666666,-302]
[39,"Dragan Jontić",181,159,148,141,138,0,767,127.83333333333333,-319]
[40,"Aleksandar Nikolić",165,166,186,152,0,0,669,111.5,-417]
[41,"Simon Simonović",166,182,155,128,0,0,631,105.16666666666667,-455]
[42,"Branislav Skender",156,128,134,140,0,0,558,93,-528]

{"sheet":"step1","index":5,"n_rows":20,"n_cols":14,"rows_kept":20,"cut":false,"hidden":false,"merged":[[0,0,0,13],[1,0,1,13]]}
["STEP 1 - Pojedinačno prvenstvo Srbije (M)"]
["Bowling Centar Kolosej - Ušće  25.02.2011"]
[]
["Pozicija","Ime igraca","Kvalifikacije","I igra","II igra","III igra","IV igra","V igra","VI igra","Total","Prosek","Total st1","Prosek st1","Cut"]
[1,{"$f":"'Kvalifikacije TOTAL'!B5","v":"Bertalan Puškaš"},{"$f":"'Kvalifikacije TOTAL'!I5","v":1233},null,null,null,null,null,null,{"$f":"SUM(D5:I5)","v":0},{"$f":"AVERAGE(D5:I5)","v":{"$error":"#DIV/0!"}},{"$f":"C5+J5","v":1233},{"$f":"L5/12","v":102.75},{"$f":"IF(L5=0,0,L5-$L$12)","v":90}]
[2,{"$f":"'Kvalifikacije TOTAL'!B6","v":"Miladin Dabetić"},{"$f":"'Kvalifikacije TOTAL'!I6","v":1207},null,null,null,null,null,null,{"$f":"SUM(D6:I6)","v":0},{"$f":"AVERAGE(D6:I6)","v":{"$error":"#DIV/0!"}},{"$f":"C6+J6","v":1207},{"$f":"L6/12","v":100.58333333333333},64]
[3,{"$f":"'Kvalifikacije TOTAL'!B7","v":"Milan Dragić"},{"$f":"'Kvalifikacije TOTAL'!I7","v":1200},null,null,null,null,null,null,{"$f":"SUM(D7:I7)","v":0},{"$f":"AVERAGE(D7:I7)","v":{"$error":"#DIV/0!"}},{"$f":"C7+J7","v":1200},{"$f":"L7/12","v":100},57]
[4,{"$f":"'Kvalifikacije TOTAL'!B8","v":"Vladimir Štrbac"},{"$f":"'Kvalifikacije TOTAL'!I8","v":1169},null,null,null,null,null,null,{"$f":"SUM(D8:I8)","v":0},{"$f":"AVERAGE(D8:I8)","v":{"$error":"#DIV/0!"}},{"$f":"C8+J8","v":1169},{"$f":"L8/12","v":97.416666666666671},26]
[5,{"$f":"'Kvalifikacije TOTAL'!B9","v":"Stevo Kovačević"},{"$f":"'Kvalifikacije TOTAL'!I9","v":1165},null,null,null,null,null,null,{"$f":"SUM(D9:I9)","v":0},{"$f":"AVERAGE(D9:I9)","v":{"$error":"#DIV/0!"}},{"$f":"C9+J9","v":1165},{"$f":"L9/12","v":97.083333333333329},22]
[6,{"$f":"'Kvalifikacije TOTAL'!B10","v":"Slavoljub Miljkovic"},{"$f":"'Kvalifikacije TOTAL'!I10","v":1153},null,null,null,null,null,null,{"$f":"SUM(D10:I10)","v":0},{"$f":"AVERAGE(D10:I10)","v":{"$error":"#DIV/0!"}},{"$f":"C10+J10","v":1153},{"$f":"L10/12","v":96.083333333333329},10]
[7,{"$f":"'Kvalifikacije TOTAL'!B11","v":"Saša Pavlovski"},{"$f":"'Kvalifikacije TOTAL'!I11","v":1144},null,null,null,null,null,null,{"$f":"SUM(D11:I11)","v":0},{"$f":"AVERAGE(D11:I11)","v":{"$error":"#DIV/0!"}},{"$f":"C11+J11","v":1144},{"$f":"L11/12","v":95.333333333333329},1]
[8,{"$f":"'Kvalifikacije TOTAL'!B12","v":"Predrag Drajer"},{"$f":"'Kvalifikacije TOTAL'!I12","v":1143},null,null,null,null,null,null,{"$f":"SUM(D12:I12)","v":0},{"$f":"AVERAGE(D12:I12)","v":{"$error":"#DIV/0!"}},{"$f":"C12+J12","v":1143},{"$f":"L12/12","v":95.25},{"$f":"IF(L12=0,0,L12-$L$12)","v":0}]
[9,{"$f":"'Kvalifikacije TOTAL'!B13","v":"Boško Nikolić"},{"$f":"'Kvalifikacije TOTAL'!I13","v":1134},null,null,null,null,null,null,{"$f":"SUM(D13:I13)","v":0},{"$f":"AVERAGE(D13:I13)","v":{"$error":"#DIV/0!"}},{"$f":"C13+J13","v":1134},{"$f":"L13/12","v":94.5},{"$f":"IF(L13=0,0,L13-$L$12)","v":-9}]
[10,{"$f":"'Kvalifikacije TOTAL'!B14","v":"Djordje Djermanović"},{"$f":"'Kvalifikacije TOTAL'!I14","v":1103},null,null,null,null,null,null,{"$f":"SUM(D14:I14)","v":0},{"$f":"AVERAGE(D14:I14)","v":{"$error":"#DIV/0!"}},{"$f":"C14+J14","v":1103},{"$f":"L14/12","v":91.916666666666671},-40]
[11,{"$f":"'Kvalifikacije TOTAL'!B15","v":"Nenad Stojiljković"},{"$f":"'Kvalifikacije TOTAL'!I15","v":1102},null,null,null,null,null,null,{"$f":"SUM(D15:I15)","v":0},{"$f":"AVERAGE(D15:I15)","v":{"$error":"#DIV/0!"}},{"$f":"C15+J15","v":1102},{"$f":"L15/12","v":91.833333333333329},-41]
[12,{"$f":"'Kvalifikacije TOTAL'!B16","v":"Boban Stojić"},{"$f":"'Kvalifikacije TOTAL'!I16","v":1096},null,null,null,null,null,null,{"$f":"SUM(D16:I16)","v":0},{"$f":"AVERAGE(D16:I16)","v":{"$error":"#DIV/0!"}},{"$f":"C16+J16","v":1096},{"$f":"L16/12","v":91.333333333333329},-47]
[13,{"$f":"'Kvalifikacije TOTAL'!B17","v":"Borivoj Djuran"},{"$f":"'Kvalifikacije TOTAL'!I17","v":1095},null,null,null,null,null,null,{"$f":"SUM(D17:I17)","v":0},{"$f":"AVERAGE(D17:I17)","v":{"$error":"#DIV/0!"}},{"$f":"C17+J17","v":1095},{"$f":"L17/12","v":91.25},-48]
[14,{"$f":"'Kvalifikacije TOTAL'!B18","v":"Mladen Aćimović"},{"$f":"'Kvalifikacije TOTAL'!I18","v":1091},null,null,null,null,null,null,{"$f":"SUM(D18:I18)","v":0},{"$f":"AVERAGE(D18:I18)","v":{"$error":"#DIV/0!"}},{"$f":"C18+J18","v":1091},{"$f":"L18/12","v":90.916666666666671},-52]
[15,{"$f":"'Kvalifikacije TOTAL'!B19","v":"Vanja Majski"},{"$f":"'Kvalifikacije TOTAL'!I19","v":1091},null,null,null,null,null,null,{"$f":"SUM(D19:I19)","v":0},{"$f":"AVERAGE(D19:I19)","v":{"$error":"#DIV/0!"}},{"$f":"C19+J19","v":1091},{"$f":"L19/12","v":90.916666666666671},-52]
[16,{"$f":"'Kvalifikacije TOTAL'!B20","v":"Predrag Lukovac"},{"$f":"'Kvalifikacije TOTAL'!I20","v":1086},null,null,null,null,null,null,{"$f":"SUM(D20:I20)","v":0},{"$f":"AVERAGE(D20:I20)","v":{"$error":"#DIV/0!"}},{"$f":"C20+J20","v":1086},{"$f":"L20/12","v":90.5},-57]

{"sheet":"step2","index":6,"n_rows":12,"n_cols":11,"rows_kept":12,"cut":false,"hidden":false,"merged":[[0,0,0,10],[1,0,1,10]]}
["STEP 2 - Pojedinačno prvenstvo Srbije (M)"]
["Bowling Centar Kolosej - Ušće  25.02.2011"]
[]
["Pozicija","Ime igraca","kv+st1 50%","I igra","II igra","III igra","Total","Prosek","Total st2","Prosek st2","Cut"]
[1,{"$f":"step1!B5","v":"Bertalan Puškaš"},{"$f":"step1!L5/2","v":616.5},null,null,null,{"$f":"SUM(D5:F5)","v":0},{"$f":"AVERAGE(D5:F5)","v":{"$error":"#DIV/0!"}},{"$f":"C5+G5","v":616.5},{"$f":"I5/15","v":41.1},{"$f":"IF(I5=0,0,I5-$I$9)","v":34}]
[2,{"$f":"step1!B6","v":"Miladin Dabetić"},{"$f":"step1!L6/2","v":603.5},null,null,null,0,{"$error":"#DIV/0!"},603.5,40.233333333333334,{"$f":"IF(I6=0,0,I6-$I$9)","v":21}]
[3,{"$f":"step1!B7","v":"Milan Dragić"},{"$f":"step1!L7/2","v":600},null,null,null,0,{"$error":"#DIV/0!"},600,40,{"$f":"IF(I7=0,0,I7-$I$9)","v":17.5}]
[4,{"$f":"step1!B8","v":"Vladimir Štrbac"},{"$f":"step1!L8/2","v":584.5},null,null,null,0,{"$error":"#DIV/0!"},584.5,38.966666666666669,{"$f":"IF(I8=0,0,I8-$I$8)","v":0}]
[5,{"$f":"step1!B9","v":"Stevo Kovačević"},{"$f":"step1!L9/2","v":582.5},null,null,null,0,{"$error":"#DIV/0!"},582.5,38.833333333333336,{"$f":"IF(I9=0,0,I9-$I$8)","v":-2}]
[6,{"$f":"step1!B10","v":"Slavoljub Miljkovic"},{"$f":"step1!L10/2","v":576.5},null,null,null,0,{"$error":"#DIV/0!"},576.5,38.43333333333333,{"$f":"IF(I10=0,0,I10-$I$8)","v":-8}]
[7,{"$f":"step1!B11","v":"Saša Pavlovski"},{"$f":"step1!L11/2","v":572},null,null,null,0,{"$error":"#DIV/0!"},572,38.133333333333333,{"$f":"IF(I11=0,0,I11-$I$8)","v":-12.5}]
[8,{"$f":"step1!B12","v":"Predrag Drajer"},{"$f":"step1!L12/2","v":571.5},null,null,null,0,{"$error":"#DIV/0!"},571.5,38.1,{"$f":"IF(I12=0,0,I12-$I$8)","v":-13}]

{"sheet":"RoundRobin","index":7,"n_rows":24,"n_cols":8,"rows_kept":24,"cut":false,"hidden":false,"merged":[[0,0,0,4]]}
["STEP 3 - Round Robin (M)"]
[]
[null,"Ime igraca","Igra","Bonus","Total"]
[1,{"$f":"step2!B5","v":"Bertalan Puškaš"},null,{"$f":"G4+H4","v":10},{"$f":"C4+D4","v":10},null,{"$f":"IF(C4=C5,10,IF(C4>C5,20,0))","v":10},{"$f":"IF(C4>=250,10,IF(C4>=200,5,0))","v":0}]
[4,{"$f":"step2!B8","v":"Vladimir Štrbac"},null,{"$f":"G5+H5","v":10},{"$f":"C5+D5","v":10},null,{"$f":"IF(C5=C4,10,IF(C5>C4,20,0))","v":10},{"$f":"IF(C5>=250,10,IF(C5>=200,5,0))","v":0}]
[]
[2,{"$f":"step2!B6","v":"Miladin Dabetić"},null,{"$f":"G7+H7","v":10},{"$f":"C7+D7","v":10},null,{"$f":"IF(C7=C8,10,IF(C7>C8,20,0))","v":10},{"$f":"IF(C7>=250,10,IF(C7>=200,5,0))","v":0}]
[3,{"$f":"step2!B7","v":"Milan Dragić"},null,{"$f":"G8+H8","v":10},{"$f":"C8+D8","v":10},null,{"$f":"IF(C8=C7,10,IF(C8>C7,20,0))","v":10},{"$f":"IF(C8>=250,10,IF(C8>=200,5,0))","v":0}]
[]
[]
[null,"Ime igraca","Igra","Bonus","Total"]
[1,{"$f":"step2!B5","v":"Bertalan Puškaš"},null,{"$f":"G12+H12","v":10},{"$f":"C12+D12","v":10},null,{"$f":"IF(C12=C13,10,IF(C12>C13,20,0))","v":10},{"$f":"IF(C12>=250,10,IF(C12>=200,5,0))","v":0}]
[3,{"$f":"step2!B7","v":"Milan Dragić"},null,{"$f":"G13+H13","v":10},{"$f":"C13+D13","v":10},null,{"$f":"IF(C13=C12,10,IF(C13>C12,20,0))","v":10},{"$f":"IF(C13>=250,10,IF(C13>=200,5,0))","v":0}]
[]
[2,{"$f":"step2!B6","v":"Miladin Dabetić"},null,{"$f":"G15+H15","v":10},{"$f":"C15+D15","v":10},null,{"$f":"IF(C15=C16,10,IF(C15>C16,20,0))","v":10},{"$f":"IF(C15>=250,10,IF(C15>=200,5,0))","v":0}]
[4,{"$f":"step2!B8","v":"Vladimir Štrbac"},null,{"$f":"G16+H16","v":10},{"$f":"C16+D16","v":10},null,{"$f":"IF(C16=C15,10,IF(C16>C15,20,0))","v":10},{"$f":"IF(C16>=250,10,IF(C16>=200,5,0))","v":0}]
[]
[]
[null,"Ime igraca","Igra","Bonus","Total"]
[1,{"$f":"step2!B5","v":"Bertalan Puškaš"},null,{"$f":"G20+H20","v":10},{"$f":"C20+D20","v":10},null,{"$f":"IF(C20=C21,10,IF(C20>C21,20,0))","v":10},{"$f":"IF(C20>=250,10,IF(C20>=200,5,0))","v":0}]
[2,{"$f":"step2!B6","v":"Miladin Dabetić"},null,{"$f":"G21+H21","v":10},{"$f":"C21+D21","v":10},null,{"$f":"IF(C21=C20,10,IF(C21>C20,20,0))","v":10},{"$f":"IF(C21>=250,10,IF(C21>=200,5,0))","v":0}]
[]
[3,{"$f":"step2!B7","v":"Milan Dragić"},null,{"$f":"G23+H23","v":10},{"$f":"C23+D23","v":10},null,{"$f":"IF(C23=C24,10,IF(C23>C24,20,0))","v":10},{"$f":"IF(C23>=250,10,IF(C23>=200,5,0))","v":0}]
[4,{"$f":"step2!B8","v":"Vladimir Štrbac"},null,{"$f":"G24+H24","v":10},{"$f":"C24+D24","v":10},null,{"$f":"IF(C24=C23,10,IF(C24>C23,20,0))","v":10},{"$f":"IF(C24>=250,10,IF(C24>=200,5,0))","v":0}]

{"sheet":"step3","index":8,"n_rows":8,"n_cols":14,"rows_kept":8,"cut":false,"hidden":false,"merged":[[0,0,0,13],[1,0,1,13]]}
["STEP 3 - Pojedinačno prvenstvo Srbije (M)"]
["Bowling Centar Kolosej - Ušće  25.02.2011"]
[]
["Pozicija","Ime igraca","st2","I igra","Bonus","II igra","Bonus","III igra","Bonus","Total","Prosek","Total st3","Prosek st3","Cut"]
[1,{"$f":"step2!B5","v":"Bertalan Puškaš"},{"$f":"step2!I5","v":616.5},{"$f":"RoundRobin!C4","v":0},{"$f":"RoundRobin!D4","v":10},{"$f":"RoundRobin!C12","v":0},{"$f":"RoundRobin!D12","v":10},{"$f":"RoundRobin!C20","v":0},{"$f":"RoundRobin!D20","v":10},{"$f":"SUM(D5:I5)","v":30},{"$f":"AVERAGE(D5,F5,H5)","v":0},{"$f":"C5+J5","v":646.5},{"$f":"L5/18","v":35.916666666666664},{"$f":"IF(L5=0,0,L5-$L$8)","v":32}]
[2,{"$f":"step2!B6","v":"Miladin Dabetić"},{"$f":"step2!I6","v":603.5},{"$f":"RoundRobin!C7","v":0},{"$f":"RoundRobin!D7","v":10},{"$f":"RoundRobin!C15","v":0},{"$f":"RoundRobin!D15","v":10},{"$f":"RoundRobin!C21","v":0},{"$f":"RoundRobin!D21","v":10},{"$f":"SUM(D6:I6)","v":30},{"$f":"AVERAGE(D6,F6,H6)","v":0},{"$f":"C6+J6","v":633.5},{"$f":"L6/18","v":35.194444444444443},{"$f":"IF(L6=0,0,L6-$L$8)","v":19}]
[3,{"$f":"step2!B7","v":"Milan Dragić"},{"$f":"step2!I7","v":600},{"$f":"RoundRobin!C8","v":0},{"$f":"RoundRobin!D8","v":10},{"$f":"RoundRobin!C13","v":0},{"$f":"RoundRobin!D13","v":10},{"$f":"RoundRobin!C23","v":0},{"$f":"RoundRobin!D23","v":10},{"$f":"SUM(D7:I7)","v":30},{"$f":"AVERAGE(D7,F7,H7)","v":0},{"$f":"C7+J7","v":630},{"$f":"L7/18","v":35},{"$f":"IF(L7=0,0,L7-$L$8)","v":15.5}]
[4,{"$f":"step2!B8","v":"Vladimir Štrbac"},{"$f":"step2!I8","v":584.5},{"$f":"RoundRobin!C5","v":0},{"$f":"RoundRobin!D5","v":10},{"$f":"RoundRobin!C16","v":0},{"$f":"RoundRobin!D16","v":10},{"$f":"RoundRobin!C24","v":0},{"$f":"RoundRobin!D24","v":10},{"$f":"SUM(D8:I8)","v":30},{"$f":"AVERAGE(D8,F8,H8)","v":0},{"$f":"C8+J8","v":614.5},{"$f":"L8/18","v":34.138888888888886},{"$f":"IF(L8=0,0,L8-$L$8)","v":0}]

{"sheet":"Zene kvalifikacije","index":9,"n_rows":9,"n_cols":11,"rows_kept":9,"cut":false,"hidden":false,"merged":[[0,0,0,10],[1,0,1,10]]}
["Kvalifikacije - Pojedinačno prvenstvo Srbije (F)"]
["Bowling Centar Kolosej - Ušće  23-24.02.2011"]
[]
["Pozicija","Ime igraca","I igra","II igra","III igra","IV igra","V igra","VI igra","Total","Prosek","Cut"]
[1,"Dragana Petrović",204,212,140,158,202,148,{"$f":"SUM(C5:H5)","v":1064},{"$f":"AVERAGE(C5:H5)","v":177.33333333333334},{"$f":"IF(I5=0,0,I5-$I$8)","v":121}]
[2,"Danica Vijatović",151,212,163,157,159,163,1005,167.5,62]
[3,"Zita Širmer",185,134,174,149,199,152,993,165.5,50]
[4,"Biljana Mirić",130,187,189,120,151,166,943,157.16666666666666,{"$f":"IF(I8=0,0,I8-$I$8)","v":0}]
[5,"Nataša Drajer",139,124,121,181,171,181,917,152.83333333333334,{"$f":"IF(I9=0,0,I9-$I$8)","v":-26}]

{"sheet":"Zene RoundRobin","index":10,"n_rows":24,"n_cols":8,"rows_kept":24,"cut":false,"hidden":false,"merged":[[0,0,0,4]]}
["STEP 3 - Round Robin (F)"]
[]
[null,"Ime igraca","Igra","Bonus","Total"]
[1,{"$f":"'Zene kvalifikacije'!B5","v":"Dragana Petrović"},null,{"$f":"G4+H4","v":10},{"$f":"C4+D4","v":10},null,{"$f":"IF(C4=C5,10,IF(C4>C5,20,0))","v":10},{"$f":"IF(C4>=250,10,IF(C4>=200,5,0))","v":0}]
[4,{"$f":"'Zene kvalifikacije'!B8","v":"Biljana Mirić"},null,{"$f":"G5+H5","v":10},{"$f":"C5+D5","v":10},null,{"$f":"IF(C5=C4,10,IF(C5>C4,20,0))","v":10},{"$f":"IF(C5>=250,10,IF(C5>=200,5,0))","v":0}]
[]
[2,{"$f":"'Zene kvalifikacije'!B6","v":"Danica Vijatović"},null,{"$f":"G7+H7","v":10},{"$f":"C7+D7","v":10},null,{"$f":"IF(C7=C8,10,IF(C7>C8,20,0))","v":10},{"$f":"IF(C7>=250,10,IF(C7>=200,5,0))","v":0}]
[3,{"$f":"'Zene kvalifikacije'!B7","v":"Zita Širmer"},null,{"$f":"G8+H8","v":10},{"$f":"C8+D8","v":10},null,{"$f":"IF(C8=C7,10,IF(C8>C7,20,0))","v":10},{"$f":"IF(C8>=250,10,IF(C8>=200,5,0))","v":0}]
[]
[]
[null,"Ime igraca","Igra","Bonus","Total"]
[1,{"$f":"'Zene kvalifikacije'!B5","v":"Dragana Petrović"},null,{"$f":"G12+H12","v":10},{"$f":"C12+D12","v":10},null,{"$f":"IF(C12=C13,10,IF(C12>C13,20,0))","v":10},{"$f":"IF(C12>=250,10,IF(C12>=200,5,0))","v":0}]
[3,{"$f":"'Zene kvalifikacije'!B7","v":"Zita Širmer"},null,{"$f":"G13+H13","v":10},{"$f":"C13+D13","v":10},null,{"$f":"IF(C13=C12,10,IF(C13>C12,20,0))","v":10},{"$f":"IF(C13>=250,10,IF(C13>=200,5,0))","v":0}]
[]
[2,{"$f":"'Zene kvalifikacije'!B6","v":"Danica Vijatović"},null,{"$f":"G15+H15","v":10},{"$f":"C15+D15","v":10},null,{"$f":"IF(C15=C16,10,IF(C15>C16,20,0))","v":10},{"$f":"IF(C15>=250,10,IF(C15>=200,5,0))","v":0}]
[4,{"$f":"'Zene kvalifikacije'!B8","v":"Biljana Mirić"},null,{"$f":"G16+H16","v":10},{"$f":"C16+D16","v":10},null,{"$f":"IF(C16=C15,10,IF(C16>C15,20,0))","v":10},{"$f":"IF(C16>=250,10,IF(C16>=200,5,0))","v":0}]
[]
[]
[null,"Ime igraca","Igra","Bonus","Total"]
[1,{"$f":"'Zene kvalifikacije'!B5","v":"Dragana Petrović"},null,{"$f":"G20+H20","v":10},{"$f":"C20+D20","v":10},null,{"$f":"IF(C20=C21,10,IF(C20>C21,20,0))","v":10},{"$f":"IF(C20>=250,10,IF(C20>=200,5,0))","v":0}]
[2,{"$f":"'Zene kvalifikacije'!B6","v":"Danica Vijatović"},null,{"$f":"G21+H21","v":10},{"$f":"C21+D21","v":10},null,{"$f":"IF(C21=C20,10,IF(C21>C20,20,0))","v":10},{"$f":"IF(C21>=250,10,IF(C21>=200,5,0))","v":0}]
[]
[3,{"$f":"'Zene kvalifikacije'!B7","v":"Zita Širmer"},null,{"$f":"G23+H23","v":10},{"$f":"C23+D23","v":10},null,{"$f":"IF(C23=C24,10,IF(C23>C24,20,0))","v":10},{"$f":"IF(C23>=250,10,IF(C23>=200,5,0))","v":0}]
[4,{"$f":"'Zene kvalifikacije'!B8","v":"Biljana Mirić"},null,{"$f":"G24+H24","v":10},{"$f":"C24+D24","v":10},null,{"$f":"IF(C24=C23,10,IF(C24>C23,20,0))","v":10},{"$f":"IF(C24>=250,10,IF(C24>=200,5,0))","v":0}]

{"sheet":"Zene step3","index":11,"n_rows":8,"n_cols":14,"rows_kept":8,"cut":false,"hidden":false,"merged":[[0,0,0,13],[1,0,1,13]]}
["STEP 3 - Pojedinačno prvenstvo Srbije (F)"]
["Bowling Centar Kolosej - Ušće  25.02.2011"]
[]
["Pozicija","Ime igraca","st2","I igra","Bonus","II igra","Bonus","III igra","Bonus","Total","Prosek","Total st3","Prosek st3","Cut"]
[1,{"$f":"'Zene kvalifikacije'!B5","v":"Dragana Petrović"},{"$f":"'Zene kvalifikacije'!I5","v":1064},{"$f":"'Zene RoundRobin'!C4","v":0},{"$f":"'Zene RoundRobin'!D4","v":10},{"$f":"'Zene RoundRobin'!C12","v":0},{"$f":"'Zene RoundRobin'!D12","v":10},{"$f":"'Zene RoundRobin'!C20","v":0},{"$f":"'Zene RoundRobin'!D20","v":10},{"$f":"SUM(D5:I5)","v":30},{"$f":"AVERAGE(D5,F5,H5)","v":0},{"$f":"C5+J5","v":1094},{"$f":"L5/18","v":60.777777777777779},{"$f":"IF(L5=0,0,L5-$L$8)","v":121}]
[2,{"$f":"'Zene kvalifikacije'!B6","v":"Danica Vijatović"},{"$f":"'Zene kvalifikacije'!I6","v":1005},{"$f":"'Zene RoundRobin'!C7","v":0},{"$f":"'Zene RoundRobin'!D7","v":10},{"$f":"'Zene RoundRobin'!C15","v":0},{"$f":"'Zene RoundRobin'!D15","v":10},{"$f":"'Zene RoundRobin'!C21","v":0},{"$f":"'Zene RoundRobin'!D21","v":10},{"$f":"SUM(D6:I6)","v":30},{"$f":"AVERAGE(D6,F6,H6)","v":0},{"$f":"C6+J6","v":1035},{"$f":"L6/18","v":57.5},{"$f":"IF(L6=0,0,L6-$L$8)","v":62}]
[3,{"$f":"'Zene kvalifikacije'!B7","v":"Zita Širmer"},{"$f":"'Zene kvalifikacije'!I7","v":993},{"$f":"'Zene RoundRobin'!C8","v":0},{"$f":"'Zene RoundRobin'!D8","v":10},{"$f":"'Zene RoundRobin'!C13","v":0},{"$f":"'Zene RoundRobin'!D13","v":10},{"$f":"'Zene RoundRobin'!C23","v":0},{"$f":"'Zene RoundRobin'!D23","v":10},{"$f":"SUM(D7:I7)","v":30},{"$f":"AVERAGE(D7,F7,H7)","v":0},{"$f":"C7+J7","v":1023},{"$f":"L7/18","v":56.833333333333336},{"$f":"IF(L7=0,0,L7-$L$8)","v":50}]
[4,{"$f":"'Zene kvalifikacije'!B8","v":"Biljana Mirić"},{"$f":"'Zene kvalifikacije'!I8","v":943},{"$f":"'Zene RoundRobin'!C5","v":0},{"$f":"'Zene RoundRobin'!D5","v":10},{"$f":"'Zene RoundRobin'!C16","v":0},{"$f":"'Zene RoundRobin'!D16","v":10},{"$f":"'Zene RoundRobin'!C24","v":0},{"$f":"'Zene RoundRobin'!D24","v":10},{"$f":"SUM(D8:I8)","v":30},{"$f":"AVERAGE(D8,F8,H8)","v":0},{"$f":"C8+J8","v":973},{"$f":"L8/18","v":54.055555555555557},{"$f":"IF(L8=0,0,L8-$L$8)","v":0}]